Workbook

Sheet アセスメントシート《5段階評価基準》（受講後）
A2: 領域 | C2: 能力名 | F2: 自己評価 | G2: 内 容 | K2: ５ （100%できる） | M2: ４ （70%できる） | O2: ３ （50%できる） | Q2: ２ （たまにできる） | S2: １ （できない）
A3: エステティックサロン | B3: 経営者としての心構え | C3: 1 | D3: 職業意識・自己管理能力 | G3: 日頃から、健康や美の維持・向上に取り組み、生活リズムを整え、健康と美を保っている | K3: プロ意識が高く、自己管理を徹底している | M3: プロ意識が高く、自己管理は習慣している | O3: プロ意識はあるが、自己管理は習慣化していない | Q3: プロ意識はあるが、自己管理能力はあまりない | S3: プロとしての自信が低く、自己管理はできていない
C4: 2 | D4: 情緒の安定・自己統制力 | G4: 日頃から、ストレスケアを心がけ、感情のコントロールができ、精神的に安定している | K4: 自分に適したメンタルケアを習慣化し、情緒は安定している | M4: メンタルケアを定期的に行い、情緒はほぼ安定している | O4: ストレスを感じた時にメンタルケアを行い、情緒は概ね安定している | Q4: ストレスを感じた時にメンタルケアを行い、情緒はあまり安定していない | S4: メンタルケアは行わず、情緒は安定していない。
C5: 3 | D5: 意思表示・ｺﾐｭﾆｹｰｼｮﾝ力 | G5: 日頃から、自分の意思を言葉にして、わかりやすく相手に伝えることができる | K5: 双方の価値観の違いを理解して、自分の意思表示ができる | M5: 双方の価値観の違いを理解して、概ね自分の意思表示ができる | O5: 相手や内容によっては、意思表示ができる | Q5: 相手や内容によっては、意思表示ができない | S5: ほとんど意思表示ができない
C6: 4 | D6: 時間遵守・ﾀｲﾑﾏﾈｼﾞﾒﾝﾄ力 | G6: 日頃から、他者との約束の時間、締め切りの時間、自身の仕事の時間などを守っている | K6: 不測の事態も想定して、必ず時間を守る | M6: 不測の事態を想定して、概ね時間を守る | O6: 概ね時間を守る | Q6: 数分であっても、時間に遅れることが多い | S6: 時間を守らない
C7: 5 | D7: 規則の遵守・ｺﾝﾌﾟﾗｲｱﾝｽ力 | G7: 日頃から、社会や家庭、自分が属しているコミュニティなどの規則やルールを守っている | K7: 規則やルールは率先して守る | M7: 規則やルールは守る | O7: 規則やルールは概ね守る | Q7: 規則やルールをあまり守らない | S7: 規則やルールを守らない
A8: 衛生・設備・機器管理 | B8: トリートメント | C8: 1 | D8: サロン・技術者 衛生管理 | G8: 営業前にサロン施設・機器・備品・技術者などを、エステティック衛生基準に則て準備し、記録している | K8: 毎日の営業前に、チェックリストに記録し管理している | M8: 定期的（週1程度）に、チェックリストに記録し管理している | O8: 毎日の営業前に、それぞれに適した衛生管理をしている | Q8: 定期的（週1程度）に、それぞれに適した衛生管理をしている | S8: エステティック衛生基準を理解しておらず、できていない
C9: 2 | D9: 設備・機器の管理 | G9: 営業前に設備や機器の動作確認を行い、不具合がある場合は対応方法を正しく理解し適切に対処している | K9: 毎日の営業前に、チェックリストに記録し管理している | M9: 定期的（週1程度）に、チェックリストに記録し管理している | O9: 定期的に、動作確認している | Q9: 顧客のトリートメント前に動作確認している | S9: 設備や機器の動作確認は、特にしていない。
C10: 3 | D10: プレカウンセリング | G10: お客様の情報や要望を細部まで確認し、体調やお肌の状態を正確に把握してトリートメントを提案している | K10: できている 顧客カルテに記録している | M10: 概ねできている 顧客カルテに記録している | O10: 概ねできている 顧客カルテに一部記録している | Q10: あまりできていない 顧客カルテに一部記録している | S10: お客様の体調やお肌の状態は確認していない
C11: 4 | D11: トリートメント | G11: トリートメントの前・中・後のお客様の状態を観察し、その状態に合わせた適切なトリートメントをしている | K11: トリートメント後の顧客満足度が高く、ほぼリピートされる | M11: トリートメント後の顧客満足度が高く、概ねリピートされる | O11: トリートメント後の顧客満足度が高く、半数はリピートされる | Q11: 顧客満足度は低くないが、リピート率が低い | S11: 顧客満足度が低く、リピート率が低い
C12: 5 | D12: アフターカウンセリング | G12: トリートメント後の身体やお肌の状態確認を行い、適切なスキンケア、生活習慣などのアドバイスを行う | K12: お客様のお悩みや要望に適したアドバイスができる | M12: お客様のお悩みや要望に適したアドバイスが概ねできる | O12: お客様のお悩みや要望に適したアドバイスは、ある程度できる | Q12: お客様のお悩みや要望に適したアドバイスがあまりできない | S12: お客様のお悩みや要望に適したアドバイスができない
A13: 営業・販売 | B13: 顧客管理 | C13: 1 | D13: 関連する法令遵守 | G13: 必要に応じて、お客様への諸表類の交付、サロンの財務諸表の設置など、関連する法令を遵守している | K13: 関連法令を理解し、遵守して運営している | M13: 関連法令を理解し、概ね遵守して運営している | O13: 関連法令を理解しているが、一部遵守できていない | Q13: 理解していない関連法令もあるが、一部できている | S13: 関連法令を理解しておらず、遵守できていない
C14: 2 | D14: コース・メニュー提案力 | G14: お客様のお悩みやご要望、ご希望の予算などに適したコースやメニューのご提案を行う | K14: 適切なご提案ができ、契約率、継続来店率が高い | M14: 適切なご提案ができ、契約率、継続来店率が概ね高い | O14: 適切なご提案はできるが、契約率、継続来店率は高くない | Q14: 適切なご提案はあまりできず、契約率、継続来店率は低い | S14: 適切なご提案ができず、契約率、継続来店率は低い
C15: 3 | D15: 推奨商品の提案力 | G15: お客様のお悩みやご要望、ご希望の予算などに適したホームケア用の推奨商品のご提案を行う | K15: 適切なご提案ができ、購入率、継続率が高い | M15: 適切なご提案ができ、購入率、継続率が概ね高い | O15: 適切なご提案はできるが、購入率は高くない | Q15: 適切なご提案はあまりできず、購入率は低い | S15: 適切なご提案ができず、購入率は低い
C16: 4 | D16: 顧客カルテの記録 | G16: お客様情報、会話の詳細、トリートメント内容、トリートメント前・中・後の状態、契約履歴などを記録している | K16: 来店の都度、詳細を記録している | M16: 来店の都度、概ね詳細を記録している | O16: 来店の都度、一部は記録しているが詳細は記録していない | Q16: 来店日時、トリートメント内容の記録しかしていない | S16: 来店時の記録はしていない
C17: 5 | D17: 顧客化への取組み | G17: 顧客生涯価値(Life time value 顧客が生涯を通して購入する額)を高めるための働きかけをしている | K17: 色々なアイデアで、顧客化への取組みを積極的に行っている | M17: 顧客化への取組みは概ねできている | O17: 顧客化への取組みはパターン化している | Q17: 顧客化への取組みはあまりできていない | S17: 顧客化への取組みはできていない
A18: 市場分析 | B18: 広告宣伝・集客 | C18: 1 | D18: 社会情勢・市場分析 | G18: 少子高齢化や女性活躍、SDGSなど、社会情勢やエステティック業の市場分析をサロン経営に反映している | K18: 社会情勢や市場分析をサロン経営に反映している | M18: 社会情勢や市場分析をサロン経営に概ね反映している | O18: 業界新聞や取引先の情報をサロン経営に反映している | Q18: 社会情勢や市場分析をサロン経営にあまり反映していない | S18: 社会情勢や市場分析はしていない
C19: 2 | D19: 独自化・ブランディング | G19: 他のサロンとの違いや特徴、独自化・ブランディング構築ができている | K19: サロンの特徴や独自メニューが明確で、周知できている | M19: サロンの特徴や独自メニューがあり、概ね周知できている | O19: サロンの特徴や独自メニューはあるが、周知されていない | Q19: サロンの特徴や独自メニューはないが、構想はある | S19: サロンの特徴や独自メニューを考えていない
C20: 3 | D20: 強み・コンセプトメイク | G20: 多くのサロンがある中で、自分のサロンを選んでもらうための強みが明確になっている | K20: サロンの強みをひと言で伝えることができる | M20: サロンの強みを概ね伝えることができる | O20: サロンの強みを説明することができる | Q20: サロンの強みの説明があまりできない | S20: サロンの強みを考えていない
C21: 4 | D21: 信頼度の高い広告表示 | G21: 景品表示法、医師法、薬機法など、関連する法律を遵守した信頼度の高い広告表示をしている | K21: 法律を遵守し、信頼度の高い広告表示をしている | M21: 法律は理解しているが、広告は出していない | O21: 法律を理解し、概ね信頼度の高い広告表示をしている | Q21: 法律はあまり理解しておらず、広告代理店に任せている | S21: 効果や比較写真を掲載したブログやSNS投稿をしている
C22: 5 | D22: 集客方法と効果率 | G22: 多様な集客方法を理解し、集客率を基に分析して、効果率の高い自サロンに適した集客方法を行っている | K22: サロンに適した集客方法を行い、集客には困っていない | M22: サロンに適した集客方法を行い、集客にはあまり困っていない | O22: 色々な集客方法を行っている 集客率を高めたい | Q22: 広告代理店任せ 集客に困っている | S22: 費用をかけた集客はしていないので、集客に困っている
A23: 運営管理 | B23: 金銭管理 | C23: 1 | D23: ゴール設定・目標管理 | G23: 目指すサロン像や自分の成りたい姿が明確であり、成文化されている | K23: 目的・目標に向けて、常に意識的に行動している | M23: 目的・目標に向けて、概ね意識的に行動している | O23: 目的・目標は設定しているが、行動はともなっていない | Q23: イメージはあるが、目的・目標が明確になっていない | S23: 目的・目標はない
C24: 2 | D24: 経営計画・検証・改善 | G24: 年間計画や3年計画など、ゴールを達成するための具体的な計画を立てて行動している | K24: 中期経営計画の下に実践し、検証、改善している | M24: おおよその年間計画を立て、実践、検証、改善している | O24: 季節によるキャンペーンなどの計画を立てて実践している | Q24: 思いついた時に短期計画を立てて実践している | S24: 計画は立てていない
C25: 3 | D25: 運営管理の見える化 | G25: 安全・安心を確保するために、サロン業務のルールが決められており、マニュアルなどにまとめられている | K25: サロン業務はすべて、マニュアルにまとめられている | M25: サロン業務の一部は、マニュアルにまとめられている | O25: マニュアルはないが、ルールは決めている | Q25: 一部、ルールは決めている | S25: マニュアルはない
C26: 4 | D26: 金銭管理・損益収支 | G26: サロンの損益分岐点を把握し、日計管理、在庫管理、経費の記録など収支の記録ができている | K26: 損益収支、金銭管理、在庫管理の記録ができている | M26: 損益収支、金銭管理、在庫管理の記録が概ねできている | O26: 理解はしているが、あまりできていない | Q26: 日々の金銭管理はできている | S26: サロンの金銭管理・集積収支の理解ができていない
C27: 5 | D27: 財務管理・前受金管理 | G27: サロン設備・美容機器などの分割払い、お客様からの預り金の前受金管理の記録ができている | K27: 財務管理、前受金管理の記録ができている | M27: 財務管理、前受金管理の記録が概ねできている | O27: 理解はしているが、あまりできていない | Q27: 理解はしているが、できていない | S27: サロンの財務管理、前受金管理の理解ができていない

Sheet 領域別 バランスシート（受講後）
I1: 年 月 日
F2: 《サロン名》 | I2: 《氏名》
B6: カテゴリー | C6: 能力名 | D6: 自己評価
B7: ⑴ エステティックサロン 経営者としての心構え | C7: 職業意識・自己管理能力 | D7: ='アセスメントシート《5段階評価基準》（受講後）'!F3 -> 0
C8: 情緒の安定・自己統制力 | D8: ='アセスメントシート《5段階評価基準》（受講後）'!F4 -> 0
C9: 意思表示・ｺﾐｭﾆｹｰｼｮﾝ力 | D9: ='アセスメントシート《5段階評価基準》（受講後）'!F5 -> 0
C10: 時間遵守・ﾀｲﾑﾏﾈｼﾞﾒﾝﾄ力 | D10: ='アセスメントシート《5段階評価基準》（受講後）'!F6 -> 0
C11: 規則の遵守・ｺﾝﾌﾟﾗｲｱﾝｽ力 | D11: ='アセスメントシート《5段階評価基準》（受講後）'!F7 -> 0
C12: 平均値 | D12: =AVERAGE(D7:D11) -> 0
B24: カテゴリー | C24: 能力名 | D24: 自己評価
B25: ⑵ 衛生・設備・ 機器管理 トリートメント | C25: サロン・技術者 衛生管理 | D25: ='アセスメントシート《5段階評価基準》（受講後）'!F8 -> 0
C26: 設備・機器の管理 | D26: ='アセスメントシート《5段階評価基準》（受講後）'!F9 -> 0
C27: プレカウンセリング | D27: ='アセスメントシート《5段階評価基準》（受講後）'!F10 -> 0
C28: トリートメント | D28: ='アセスメントシート《5段階評価基準》（受講後）'!F11 -> 0
C29: アフターカウンセリング | D29: ='アセスメントシート《5段階評価基準》（受講後）'!F12 -> 0
C30: 平均値 | D30: =AVERAGE(D25:D29) -> 0
B51: カテゴリー | C51: 能力名 | D51: 自己評価
B52: ⑶ 営業・販売 顧客管理 | C52: 関連する法令遵守 | D52: ='アセスメントシート《5段階評価基準》（受講後）'!F13 -> 0
C53: コース・メニュー提案力 | D53: ='アセスメントシート《5段階評価基準》（受講後）'!F19 -> 0
C54: 推奨商品の提案力 | D54: ='アセスメントシート《5段階評価基準》（受講後）'!F20 -> 0
C55: 顧客カルテの記録 | D55: ='アセスメントシート《5段階評価基準》（受講後）'!F16 -> 0
C56: 顧客化への取組み | D56: ='アセスメントシート《5段階評価基準》（受講後）'!F22 -> 0
C57: 平均値 | D57: =AVERAGE(D52:D56) -> 0
B67: カテゴリー | C67: 能力名 | D67: 自己評価
B68: ⑷ 市場分析 広告宣伝 集客 | C68: 社会情勢・市場分析 | D68: ='アセスメントシート《5段階評価基準》（受講後）'!F18 -> 0
C69: 独自化・ブランディング | D69: ='アセスメントシート《5段階評価基準》（受講後）'!F19 -> 0
C70: 強み・コンセプトメイク | D70: ='アセスメントシート《5段階評価基準》（受講後）'!F20 -> 0
C71: 信頼度の高い広告表示 | D71: ='アセスメントシート《5段階評価基準》（受講後）'!F21 -> 0
C72: 集客方法と効果率 | D72: ='アセスメントシート《5段階評価基準》（受講後）'!F22 -> 0
C73: 平均値 | D73: =AVERAGE(D68:D72) -> 0
B83: カテゴリー | C83: 能力名 | D83: 自己評価
B84: ⑸ 運営管理 金銭管理 | C84: ゴール設定・目標管理 | D84: ='アセスメントシート《5段階評価基準》（受講後）'!F23 -> 0
C85: 経営計画・検証・改善 | D85: ='アセスメントシート《5段階評価基準》（受講後）'!F24 -> 0
C86: 運営管理の見える化 | D86: ='アセスメントシート《5段階評価基準》（受講後）'!F25 -> 0
C87: 金銭管理・損益収支 | D87: ='アセスメントシート《5段階評価基準》（受講後）'!F26 -> 0
C88: 財務管理・前受金管理 | D88: ='アセスメントシート《5段階評価基準》（受講後）'!F27 -> 0
C89: 平均値 | D89: =AVERAGE(D84:D88) -> 0

Sheet 経営力 バランスシート（受講後）
A2: （西暦） 年 月 日 | D2: 《サロン名》 | H2: 《氏名》
A6: ご自分のサロンの経営バランスを確認してみましょう！
B9: カテゴリー | H9: 自己評価
B10: ⑴ | C10: エステティックサロン経営者としての心構え | H10: =AVERAGE('領域別 バランスシート（受講後）'!D7:D11) -> 0
B11: ⑵ | C11: 衛生・設備・機器管理 / トリートメント | H11: =AVERAGE('領域別 バランスシート（受講後）'!D25:D29) -> 0
B12: ⑶ | C12: 営業・販売 / 顧客管理 | H12: =AVERAGE('領域別 バランスシート（受講後）'!D52:D56) -> 0
B13: ⑷ | C13: 市場分析 / 広告宣伝・集客 | H13: =AVERAGE('領域別 バランスシート（受講後）'!D68:D72) -> 0
B14: ⑸ | C14: 運営管理 / 金銭管理 | H14: =AVERAGE('領域別 バランスシート（受講後）'!D84:D88) -> 0
